Package: iSEEpathways Version: 1.5.0 Command: chmod a+r iSEEpathways -R && E:\biocbuild\bbs-3.21-bioc\R\bin\R.exe CMD build --keep-empty-dirs --no-resave-data iSEEpathways StartedAt: 2025-02-04 19:29:50 -0500 (Tue, 04 Feb 2025) EndedAt: 2025-02-04 19:35:26 -0500 (Tue, 04 Feb 2025) EllapsedTime: 335.8 seconds RetCode: 0 Status: OK PackageFile: iSEEpathways_1.5.0.tar.gz PackageFileSize: 2.139 MiB