Package: iSEEu Version: 1.19.0 Command: /Library/Frameworks/R.framework/Resources/bin/R CMD INSTALL iSEEu StartedAt: 2025-02-09 15:18:26 -0500 (Sun, 09 Feb 2025) EndedAt: 2025-02-09 15:18:40 -0500 (Sun, 09 Feb 2025) EllapsedTime: 13.8 seconds RetCode: 0 Status: OK