Package: iSEEu Version: 1.19.0 Command: /home/biocbuild/R/R/bin/R CMD build --keep-empty-dirs --no-resave-data iSEEu StartedAt: 2025-01-28 23:49:43 -0000 (Tue, 28 Jan 2025) EndedAt: 2025-01-28 23:52:34 -0000 (Tue, 28 Jan 2025) EllapsedTime: 171.1 seconds RetCode: 0 Status: OK PackageFile: iSEEu_1.19.0.tar.gz PackageFileSize: 1.644 MiB