Package: iSEEu Version: 1.19.0 Command: /home/biocbuild/R/R/bin/R CMD check --install=check:iSEEu.install-out.txt --library=/home/biocbuild/R/R/site-library --no-vignettes --timings iSEEu_1.19.0.tar.gz StartedAt: 2025-01-28 11:46:31 -0000 (Tue, 28 Jan 2025) EndedAt: 2025-01-28 11:52:56 -0000 (Tue, 28 Jan 2025) EllapsedTime: 384.5 seconds RetCode: 0 Status: WARNINGS CheckDir: iSEEu.Rcheck Warnings: 1