Package: iSEEu Version: 1.19.0 Command: /home/biocbuild/R/R/bin/R CMD INSTALL iSEEu StartedAt: 2025-01-29 20:11:53 -0000 (Wed, 29 Jan 2025) EndedAt: 2025-01-29 20:12:40 -0000 (Wed, 29 Jan 2025) EllapsedTime: 47.3 seconds RetCode: 0 Status: OK