Package: iSEEu Version: 1.19.0 Command: rm -rf iSEEu.buildbin-libdir && mkdir iSEEu.buildbin-libdir && /Users/biocbuild/BBS/utils/build-universal.sh iSEEu_1.19.0.tar.gz /Library/Frameworks/R.framework/Resources/bin/R iSEEu.buildbin-libdir StartedAt: 2025-02-10 00:59:18 -0500 (Mon, 10 Feb 2025) EndedAt: 2025-02-10 01:00:09 -0500 (Mon, 10 Feb 2025) EllapsedTime: 50.6 seconds RetCode: 0 Status: OK PackageFile: iSEEu_1.19.0.tgz PackageFileSize: 1.43 MiB