Package: iSEEu Version: 1.19.0 Command: /home/biocbuild/bbs-3.21-bioc/R/bin/R CMD check --install=check:iSEEu.install-out.txt --library=/home/biocbuild/bbs-3.21-bioc/R/site-library --timings iSEEu_1.19.0.tar.gz StartedAt: 2025-02-09 23:28:55 -0500 (Sun, 09 Feb 2025) EndedAt: 2025-02-09 23:35:01 -0500 (Sun, 09 Feb 2025) EllapsedTime: 366.5 seconds RetCode: 0 Status: WARNINGS CheckDir: iSEEu.Rcheck Warnings: 1