Package: iSEEu Version: 1.19.0 Command: /home/biocbuild/bbs-3.21-bioc/R/bin/R CMD INSTALL iSEEu StartedAt: 2025-02-03 15:33:12 -0500 (Mon, 03 Feb 2025) EndedAt: 2025-02-03 15:33:46 -0500 (Mon, 03 Feb 2025) EllapsedTime: 34.3 seconds RetCode: 0 Status: OK