Package: iSEEu Version: 1.19.0 Command: rm -rf iSEEu.buildbin-libdir && mkdir iSEEu.buildbin-libdir && E:\biocbuild\bbs-3.21-bioc\R\bin\R.exe CMD INSTALL --build --library=iSEEu.buildbin-libdir iSEEu_1.19.0.tar.gz StartedAt: 2025-02-10 07:59:57 -0500 (Mon, 10 Feb 2025) EndedAt: 2025-02-10 08:01:10 -0500 (Mon, 10 Feb 2025) EllapsedTime: 73.7 seconds RetCode: 0 Status: OK PackageFile: iSEEu_1.19.0.zip PackageFileSize: 1.433 MiB