Package: iSEEu Version: 1.19.0 Command: chmod a+r iSEEu -R && E:\biocbuild\bbs-3.21-bioc\R\bin\R.exe CMD build --keep-empty-dirs --no-resave-data iSEEu StartedAt: 2025-02-09 19:27:50 -0500 (Sun, 09 Feb 2025) EndedAt: 2025-02-09 19:30:08 -0500 (Sun, 09 Feb 2025) EllapsedTime: 137.3 seconds RetCode: 0 Status: OK PackageFile: iSEEu_1.19.0.tar.gz PackageFileSize: 1.62 MiB