Package: iSEEu Version: 1.19.0 Command: E:\biocbuild\bbs-3.21-bioc\R\bin\R.exe CMD INSTALL iSEEu StartedAt: 2025-02-09 16:22:22 -0500 (Sun, 09 Feb 2025) EndedAt: 2025-02-09 16:23:25 -0500 (Sun, 09 Feb 2025) EllapsedTime: 62.2 seconds RetCode: 0 Status: OK