Package: iSeq Version: 1.59.0 Command: /Library/Frameworks/R.framework/Resources/bin/R CMD check --install=check:iSeq.install-out.txt --library=/Library/Frameworks/R.framework/Resources/library --no-vignettes --timings iSeq_1.59.0.tar.gz StartedAt: 2025-02-09 21:28:57 -0500 (Sun, 09 Feb 2025) EndedAt: 2025-02-09 21:29:35 -0500 (Sun, 09 Feb 2025) EllapsedTime: 37.8 seconds RetCode: 0 Status: OK CheckDir: iSeq.Rcheck Warnings: 0