Package: iSeq Version: 1.59.0 Command: /Library/Frameworks/R.framework/Resources/bin/R CMD INSTALL iSeq StartedAt: 2025-02-09 15:03:23 -0500 (Sun, 09 Feb 2025) EndedAt: 2025-02-09 15:03:36 -0500 (Sun, 09 Feb 2025) EllapsedTime: 13.1 seconds RetCode: 0 Status: OK