Package: iSeq Version: 1.59.0 Command: /home/biocbuild/bbs-3.21-bioc/R/bin/R CMD build --keep-empty-dirs --no-resave-data iSeq StartedAt: 2025-02-09 17:48:20 -0500 (Sun, 09 Feb 2025) EndedAt: 2025-02-09 17:48:39 -0500 (Sun, 09 Feb 2025) EllapsedTime: 19.0 seconds RetCode: 0 Status: OK PackageFile: iSeq_1.59.0.tar.gz PackageFileSize: 1.326 MiB