Package: iSeq Version: 1.59.0 Command: /home/biocbuild/bbs-3.21-bioc/R/bin/R CMD check --install=check:iSeq.install-out.txt --library=/home/biocbuild/bbs-3.21-bioc/R/site-library --timings iSeq_1.59.0.tar.gz StartedAt: 2025-02-09 23:29:25 -0500 (Sun, 09 Feb 2025) EndedAt: 2025-02-09 23:30:07 -0500 (Sun, 09 Feb 2025) EllapsedTime: 42.0 seconds RetCode: 0 Status: OK CheckDir: iSeq.Rcheck Warnings: 0