Package: iSeq Version: 1.59.0 Command: rm -rf iSeq.buildbin-libdir && mkdir iSeq.buildbin-libdir && E:\biocbuild\bbs-3.21-bioc\R\bin\R.exe CMD INSTALL --build --library=iSeq.buildbin-libdir iSeq_1.59.0.tar.gz StartedAt: 2025-02-13 08:10:46 -0500 (Thu, 13 Feb 2025) EndedAt: 2025-02-13 08:10:57 -0500 (Thu, 13 Feb 2025) EllapsedTime: 11.0 seconds RetCode: 0 Status: OK PackageFile: iSeq_1.59.0.zip PackageFileSize: 1.424 MiB