Package: iSeq Version: 1.59.0 Command: chmod a+r iSeq -R && E:\biocbuild\bbs-3.21-bioc\R\bin\R.exe CMD build --keep-empty-dirs --no-resave-data iSeq StartedAt: 2025-02-09 19:28:06 -0500 (Sun, 09 Feb 2025) EndedAt: 2025-02-09 19:28:42 -0500 (Sun, 09 Feb 2025) EllapsedTime: 36.0 seconds RetCode: 0 Status: OK PackageFile: iSeq_1.59.0.tar.gz PackageFileSize: 1.201 MiB