Package: iSeq Version: 1.59.0 Command: E:\biocbuild\bbs-3.21-bioc\R\bin\R.exe CMD check --no-multiarch --install=check:iSeq.install-out.txt --library=E:\biocbuild\bbs-3.21-bioc\R\library --no-vignettes --timings iSeq_1.59.0.tar.gz StartedAt: 2025-02-10 02:15:16 -0500 (Mon, 10 Feb 2025) EndedAt: 2025-02-10 02:16:04 -0500 (Mon, 10 Feb 2025) EllapsedTime: 48.7 seconds RetCode: 0 Status: OK CheckDir: iSeq.Rcheck Warnings: 0