Package: iSeq Version: 1.59.0 Command: E:\biocbuild\bbs-3.21-bioc\R\bin\R.exe CMD INSTALL iSeq StartedAt: 2025-02-09 15:18:27 -0500 (Sun, 09 Feb 2025) EndedAt: 2025-02-09 15:18:42 -0500 (Sun, 09 Feb 2025) EllapsedTime: 14.6 seconds RetCode: 0 Status: OK