Package: iasva Version: 1.25.0 Command: /Library/Frameworks/R.framework/Resources/bin/R CMD build --keep-empty-dirs --no-resave-data iasva StartedAt: 2025-02-09 16:38:54 -0500 (Sun, 09 Feb 2025) EndedAt: 2025-02-09 16:39:13 -0500 (Sun, 09 Feb 2025) EllapsedTime: 19.2 seconds RetCode: 0 Status: OK PackageFile: iasva_1.25.0.tar.gz PackageFileSize: 1.228 MiB