Package: iasva Version: 1.25.0 Command: /Library/Frameworks/R.framework/Resources/bin/R CMD INSTALL iasva StartedAt: 2025-02-09 15:14:07 -0500 (Sun, 09 Feb 2025) EndedAt: 2025-02-09 15:14:34 -0500 (Sun, 09 Feb 2025) EllapsedTime: 26.9 seconds RetCode: 0 Status: OK