Package: iasva Version: 1.25.0 Command: /home/biocbuild/bbs-3.21-bioc/R/bin/R CMD build --keep-empty-dirs --no-resave-data iasva StartedAt: 2025-02-09 17:41:33 -0500 (Sun, 09 Feb 2025) EndedAt: 2025-02-09 17:42:21 -0500 (Sun, 09 Feb 2025) EllapsedTime: 48.1 seconds RetCode: 0 Status: OK PackageFile: iasva_1.25.0.tar.gz PackageFileSize: 1.14 MiB