Package: iasva Version: 1.25.0 Command: /home/biocbuild/bbs-3.21-bioc/R/bin/R CMD INSTALL iasva StartedAt: 2025-02-09 15:18:10 -0500 (Sun, 09 Feb 2025) EndedAt: 2025-02-09 15:18:29 -0500 (Sun, 09 Feb 2025) EllapsedTime: 18.9 seconds RetCode: 0 Status: OK