Package: iasva Version: 1.25.0 Command: chmod a+r iasva -R && E:\biocbuild\bbs-3.21-bioc\R\bin\R.exe CMD build --keep-empty-dirs --no-resave-data iasva StartedAt: 2025-02-12 19:23:00 -0500 (Wed, 12 Feb 2025) EndedAt: 2025-02-12 19:23:58 -0500 (Wed, 12 Feb 2025) EllapsedTime: 58.3 seconds RetCode: 0 Status: OK PackageFile: iasva_1.25.0.tar.gz PackageFileSize: 856.9 KiB