Package: ideal Version: 2.1.1 Maintainer: Federico Marini MaintainerEmail: marinif at uni-mainz.de git_url: https://git.bioconductor.org/packages/ideal git_branch: devel git_last_commit: 38ec392 git_last_commit_date: 2024-12-19 15:39:02 -0500 (Thu, 19 Dec 2024)