Package: ideal Version: 2.1.1 Command: /Library/Frameworks/R.framework/Resources/bin/R CMD INSTALL ideal StartedAt: 2025-02-09 15:24:48 -0500 (Sun, 09 Feb 2025) EndedAt: 2025-02-09 15:25:11 -0500 (Sun, 09 Feb 2025) EllapsedTime: 23.2 seconds RetCode: 0 Status: OK