Package: ideal Version: 2.1.1 Command: /home/biocbuild/R/R/bin/R CMD INSTALL ideal StartedAt: 2025-01-29 20:27:05 -0000 (Wed, 29 Jan 2025) EndedAt: 2025-01-29 20:28:23 -0000 (Wed, 29 Jan 2025) EllapsedTime: 77.9 seconds RetCode: 0 Status: OK