Package: ideal Version: 2.1.1 Command: /Library/Frameworks/R.framework/Resources/bin/R CMD check --install=check:ideal.install-out.txt --library=/Library/Frameworks/R.framework/Resources/library --no-vignettes --timings ideal_2.1.1.tar.gz StartedAt: 2025-02-09 21:21:25 -0500 (Sun, 09 Feb 2025) EndedAt: 2025-02-09 21:29:23 -0500 (Sun, 09 Feb 2025) EllapsedTime: 478.8 seconds RetCode: 0 Status: OK CheckDir: ideal.Rcheck Warnings: 0