Package: ideal Version: 2.1.1 Command: /home/biocbuild/bbs-3.21-bioc/R/bin/R CMD check --install=check:ideal.install-out.txt --library=/home/biocbuild/bbs-3.21-bioc/R/site-library --timings ideal_2.1.1.tar.gz StartedAt: 2025-02-09 23:16:11 -0500 (Sun, 09 Feb 2025) EndedAt: 2025-02-09 23:25:18 -0500 (Sun, 09 Feb 2025) EllapsedTime: 547.7 seconds RetCode: 0 Status: OK CheckDir: ideal.Rcheck Warnings: 0