Package: ideal Version: 2.1.1 Command: /home/biocbuild/bbs-3.21-bioc/R/bin/R CMD INSTALL ideal StartedAt: 2025-02-12 15:48:29 -0500 (Wed, 12 Feb 2025) EndedAt: 2025-02-12 15:49:26 -0500 (Wed, 12 Feb 2025) EllapsedTime: 57.8 seconds RetCode: 0 Status: OK