Package: ideal Version: 2.1.1 Command: chmod a+r ideal -R && E:\biocbuild\bbs-3.21-bioc\R\bin\R.exe CMD build --keep-empty-dirs --no-resave-data ideal StartedAt: 2025-02-09 19:19:01 -0500 (Sun, 09 Feb 2025) EndedAt: 2025-02-09 19:23:19 -0500 (Sun, 09 Feb 2025) EllapsedTime: 258.4 seconds RetCode: 0 Status: OK PackageFile: ideal_2.1.1.tar.gz PackageFileSize: 5.381 MiB