Package: ideal Version: 2.1.1 Command: E:\biocbuild\bbs-3.21-bioc\R\bin\R.exe CMD INSTALL ideal StartedAt: 2025-02-09 16:30:13 -0500 (Sun, 09 Feb 2025) EndedAt: 2025-02-09 16:31:22 -0500 (Sun, 09 Feb 2025) EllapsedTime: 69.4 seconds RetCode: 0 Status: OK