Package: idiogram Version: 1.83.0 Command: rm -rf idiogram.buildbin-libdir && mkdir idiogram.buildbin-libdir && /Users/biocbuild/BBS/utils/build-universal.sh idiogram_1.83.0.tar.gz /Library/Frameworks/R.framework/Resources/bin/R idiogram.buildbin-libdir StartedAt: 2025-02-09 22:17:46 -0500 (Sun, 09 Feb 2025) EndedAt: 2025-02-09 22:17:53 -0500 (Sun, 09 Feb 2025) EllapsedTime: 7.2 seconds RetCode: 0 Status: OK PackageFile: idiogram_1.83.0.tgz PackageFileSize: 3.722 MiB