Package: idiogram Version: 1.83.0 Command: /Library/Frameworks/R.framework/Resources/bin/R CMD build --keep-empty-dirs --no-resave-data idiogram StartedAt: 2025-02-09 16:39:33 -0500 (Sun, 09 Feb 2025) EndedAt: 2025-02-09 16:39:43 -0500 (Sun, 09 Feb 2025) EllapsedTime: 10.1 seconds RetCode: 0 Status: OK PackageFile: idiogram_1.83.0.tar.gz PackageFileSize: 1.795 MiB