Package: idiogram Version: 1.83.0 Command: /Library/Frameworks/R.framework/Resources/bin/R CMD build --keep-empty-dirs --no-resave-data idiogram StartedAt: 2025-02-09 17:08:00 -0500 (Sun, 09 Feb 2025) EndedAt: 2025-02-09 17:08:32 -0500 (Sun, 09 Feb 2025) EllapsedTime: 32.0 seconds RetCode: 0 Status: OK PackageFile: idiogram_1.83.0.tar.gz PackageFileSize: 1.795 MiB