Package: idpr Version: 1.17.0 Command: /Library/Frameworks/R.framework/Resources/bin/R CMD build --keep-empty-dirs --no-resave-data idpr StartedAt: 2025-02-09 16:39:38 -0500 (Sun, 09 Feb 2025) EndedAt: 2025-02-09 16:40:15 -0500 (Sun, 09 Feb 2025) EllapsedTime: 36.4 seconds RetCode: 0 Status: OK PackageFile: idpr_1.17.0.tar.gz PackageFileSize: 3.613 MiB