Package: idpr Version: 1.17.0 Command: /home/biocbuild/bbs-3.21-bioc/R/bin/R CMD INSTALL idpr StartedAt: 2025-02-09 15:31:00 -0500 (Sun, 09 Feb 2025) EndedAt: 2025-02-09 15:31:04 -0500 (Sun, 09 Feb 2025) EllapsedTime: 4.1 seconds RetCode: 0 Status: OK