Package: igvShiny Version: 1.3.0 Command: /Library/Frameworks/R.framework/Resources/bin/R CMD check --install=check:igvShiny.install-out.txt --library=/Library/Frameworks/R.framework/Resources/library --no-vignettes --timings igvShiny_1.3.0.tar.gz StartedAt: 2025-02-09 19:41:58 -0500 (Sun, 09 Feb 2025) EndedAt: 2025-02-09 19:42:42 -0500 (Sun, 09 Feb 2025) EllapsedTime: 43.5 seconds RetCode: 0 Status: OK CheckDir: igvShiny.Rcheck Warnings: 0