Package: igvShiny Version: 1.3.0 Command: /home/biocbuild/R/R/bin/R CMD INSTALL igvShiny StartedAt: 2025-01-29 20:06:04 -0000 (Wed, 29 Jan 2025) EndedAt: 2025-01-29 20:06:09 -0000 (Wed, 29 Jan 2025) EllapsedTime: 5.4 seconds RetCode: 1 Status: ERROR