Package: igvShiny Version: 1.3.0 Command: rm -rf igvShiny.buildbin-libdir && mkdir igvShiny.buildbin-libdir && /Users/biocbuild/BBS/utils/build-universal.sh igvShiny_1.3.0.tar.gz /Library/Frameworks/R.framework/Resources/bin/R igvShiny.buildbin-libdir StartedAt: 2025-02-05 00:44:46 -0500 (Wed, 05 Feb 2025) EndedAt: 2025-02-05 00:45:08 -0500 (Wed, 05 Feb 2025) EllapsedTime: 22.2 seconds RetCode: 0 Status: OK PackageFile: igvShiny_1.3.0.tgz PackageFileSize: 4.302 MiB