Package: igvShiny Version: 1.3.0 Command: /Library/Frameworks/R.framework/Resources/bin/R CMD check --install=check:igvShiny.install-out.txt --library=/Library/Frameworks/R.framework/Resources/library --no-vignettes --timings igvShiny_1.3.0.tar.gz StartedAt: 2025-02-04 21:07:56 -0500 (Tue, 04 Feb 2025) EndedAt: 2025-02-04 21:09:52 -0500 (Tue, 04 Feb 2025) EllapsedTime: 116.2 seconds RetCode: 0 Status: OK CheckDir: igvShiny.Rcheck Warnings: 0