Package: igvShiny Version: 1.3.0 Command: /Library/Frameworks/R.framework/Resources/bin/R CMD INSTALL igvShiny StartedAt: 2025-02-09 15:24:39 -0500 (Sun, 09 Feb 2025) EndedAt: 2025-02-09 15:24:55 -0500 (Sun, 09 Feb 2025) EllapsedTime: 16.7 seconds RetCode: 0 Status: OK