Package: igvShiny Version: 1.3.0 Command: rm -rf igvShiny.buildbin-libdir && mkdir igvShiny.buildbin-libdir && E:\biocbuild\bbs-3.21-bioc\R\bin\R.exe CMD INSTALL --build --library=igvShiny.buildbin-libdir igvShiny_1.3.0.tar.gz StartedAt: 2025-02-06 08:15:20 -0500 (Thu, 06 Feb 2025) EndedAt: 2025-02-06 08:16:13 -0500 (Thu, 06 Feb 2025) EllapsedTime: 52.6 seconds RetCode: 0 Status: OK PackageFile: igvShiny_1.3.0.zip PackageFileSize: 4.298 MiB