Package: igvShiny Version: 1.3.0 Command: chmod a+r igvShiny -R && E:\biocbuild\bbs-3.21-bioc\R\bin\R.exe CMD build --keep-empty-dirs --no-resave-data igvShiny StartedAt: 2025-02-09 19:20:07 -0500 (Sun, 09 Feb 2025) EndedAt: 2025-02-09 19:20:52 -0500 (Sun, 09 Feb 2025) EllapsedTime: 44.4 seconds RetCode: 1 Status: ERROR PackageFile: None PackageFileSize: NA