Package: illuminaio Version: 0.49.0 Command: /Library/Frameworks/R.framework/Resources/bin/R CMD build --keep-empty-dirs --no-resave-data illuminaio StartedAt: 2025-02-09 17:08:47 -0500 (Sun, 09 Feb 2025) EndedAt: 2025-02-09 17:09:12 -0500 (Sun, 09 Feb 2025) EllapsedTime: 25.2 seconds RetCode: 0 Status: OK PackageFile: illuminaio_0.49.0.tar.gz PackageFileSize: 430 KiB