Package: illuminaio Version: 0.49.0 Command: /Library/Frameworks/R.framework/Resources/bin/R CMD INSTALL illuminaio StartedAt: 2025-02-09 15:08:01 -0500 (Sun, 09 Feb 2025) EndedAt: 2025-02-09 15:08:31 -0500 (Sun, 09 Feb 2025) EllapsedTime: 30.5 seconds RetCode: 0 Status: OK