Package: illuminaio Version: 0.49.0 Command: rm -rf illuminaio.buildbin-libdir && mkdir illuminaio.buildbin-libdir && E:\biocbuild\bbs-3.21-bioc\R\bin\R.exe CMD INSTALL --build --library=illuminaio.buildbin-libdir illuminaio_0.49.0.tar.gz StartedAt: 2025-02-10 07:57:20 -0500 (Mon, 10 Feb 2025) EndedAt: 2025-02-10 07:57:46 -0500 (Mon, 10 Feb 2025) EllapsedTime: 25.7 seconds RetCode: 0 Status: OK PackageFile: illuminaio_0.49.0.zip PackageFileSize: 327.3 KiB