Package: illuminaio Version: 0.49.0 Command: chmod a+r illuminaio -R && E:\biocbuild\bbs-3.21-bioc\R\bin\R.exe CMD build --keep-empty-dirs --no-resave-data illuminaio StartedAt: 2025-02-09 19:20:16 -0500 (Sun, 09 Feb 2025) EndedAt: 2025-02-09 19:20:50 -0500 (Sun, 09 Feb 2025) EllapsedTime: 34.1 seconds RetCode: 0 Status: OK PackageFile: illuminaio_0.49.0.tar.gz PackageFileSize: 301.6 KiB