Package: illuminaio Version: 0.49.0 Command: E:\biocbuild\bbs-3.21-bioc\R\bin\R.exe CMD INSTALL illuminaio StartedAt: 2025-02-09 15:29:28 -0500 (Sun, 09 Feb 2025) EndedAt: 2025-02-09 15:29:41 -0500 (Sun, 09 Feb 2025) EllapsedTime: 12.7 seconds RetCode: 0 Status: OK