Package: imcRtools Version: 1.13.0 Command: /Library/Frameworks/R.framework/Resources/bin/R CMD check --install=check:imcRtools.install-out.txt --library=/Library/Frameworks/R.framework/Resources/library --no-vignettes --timings imcRtools_1.13.0.tar.gz StartedAt: 2025-02-09 19:42:40 -0500 (Sun, 09 Feb 2025) EndedAt: 2025-02-09 19:48:30 -0500 (Sun, 09 Feb 2025) EllapsedTime: 350.1 seconds RetCode: 1 Status: ERROR CheckDir: imcRtools.Rcheck Warnings: NA